BEGIN:VCALENDAR
VERSION:2.0
PRODID:-//Toronto Bar Crawl - ECPv4.8.2//NONSGML v1.0//EN
CALSCALE:GREGORIAN
METHOD:PUBLISH
X-WR-CALNAME:Toronto Bar Crawl
X-ORIGINAL-URL:https://www.torontobarcrawl.com
X-WR-CALDESC:Events for Toronto Bar Crawl
BEGIN:VEVENT
DTSTART;TZID=America/Toronto:20181224T190000
DTEND;TZID=America/Toronto:20181224T230000
DTSTAMP:20260421T180321
CREATED:20181030T191916Z
LAST-MODIFIED:20181214T203741Z
UID:1854-1545678000-1545692400@www.torontobarcrawl.com
SUMMARY:Toronto Bar Crawl #29 (Christmas Eve Edition)
DESCRIPTION:\n					\n						Tired of doing the usual low key stuff on Christmas Eve? Change things up this year with an awesome Xmas bar crawl and get drunk with your new found Bar Crawl family! It’s the counter culture thing to do. \nIf you are a bar aficionado\, you will appreciate the very interesting nightlife dynamics that happen on this night in Toronto. \nIt is the only night of the year where many bars in Toronto are closed\, and many of the souls hitting the last remaining open bars create a very interesting dynamic to the night that is usually very entertaining. \nThe focus of this bar crawl is to mingle with the local bar regulars in the bars as well as the the other guests. \nPlease expect a down to earth experience. \nWear your friendliest\, most fun attitude\, and strie up conversations with anyone nearby. \n.fusion-button.button-1{width:100%;}BOOK TICKET\n\n					\n				\n
URL:https://www.torontobarcrawl.com/event/toronto-bar-crawl-29-christmas-eve-edition/
LOCATION:College Street and Grace Street\, Toronto\, on\, M6G 1B8\, Canada
CATEGORIES:Toronto Bar Crawl
ATTACH;FMTTYPE=image/png:https://www.torontobarcrawl.com/wp-content/uploads/2018/10/event-poster-notext-1.png
ORGANIZER;CN="Toronto%20Bar%20Crawl":MAILTO:fun@torontobarcrawl.com
END:VEVENT
END:VCALENDAR