BEGIN:VCALENDAR
VERSION:2.0
PRODID:-//Toronto Bar Crawl - ECPv4.8.2//NONSGML v1.0//EN
CALSCALE:GREGORIAN
METHOD:PUBLISH
X-WR-CALNAME:Toronto Bar Crawl
X-ORIGINAL-URL:https://www.torontobarcrawl.com
X-WR-CALDESC:Events for Toronto Bar Crawl
BEGIN:VEVENT
DTSTART;TZID=America/Toronto:20190330T183000
DTEND;TZID=America/Toronto:20190330T223000
DTSTAMP:20260421T214406
CREATED:20190102T181052Z
LAST-MODIFIED:20190326T171435Z
UID:1921-1553970600-1553985000@www.torontobarcrawl.com
SUMMARY:Toronto Bar Crawl #31
DESCRIPTION:\n					\n						Ready to go out drinking in Toronto? \nGet your night out started right with your host Zoubin taking you on a bar crawl. \nZoubin will take you to some of his favorite bars\, where we’ll have a drink at each bar before moving onto the next. \nThe focus of this bar crawl is to mingle with the local bar regulars in the bars as well as the the other bar crawlers. \nPlease expect a down to earth experience. \nWear your friendliest\, most fun attitude\, and strike up conversations with anyone nearby. \n.fusion-button.button-1{width:100%;}BOOK TICKET\n\n					\n				\n
URL:https://www.torontobarcrawl.com/event/toronto-bar-crawl-31/
LOCATION:College Street and Grace Street\, Toronto\, on\, M6G 1B8\, Canada
CATEGORIES:Toronto Bar Crawl
ATTACH;FMTTYPE=image/png:https://www.torontobarcrawl.com/wp-content/uploads/2019/01/event-poster-notext.png
ORGANIZER;CN="Toronto%20Bar%20Crawl":MAILTO:fun@torontobarcrawl.com
END:VEVENT
END:VCALENDAR