BEGIN:VCALENDAR
VERSION:2.0
PRODID:-//Toronto Bar Crawl - ECPv4.8.2//NONSGML v1.0//EN
CALSCALE:GREGORIAN
METHOD:PUBLISH
X-WR-CALNAME:Toronto Bar Crawl
X-ORIGINAL-URL:https://www.torontobarcrawl.com
X-WR-CALDESC:Events for Toronto Bar Crawl
BEGIN:VEVENT
DTSTART;TZID=America/Toronto:20190302T060000
DTEND;TZID=America/Toronto:20190302T230000
DTSTAMP:20260421T203340
CREATED:20190131T133822Z
LAST-MODIFIED:20190301T014936Z
UID:1930-1551506400-1551567600@www.torontobarcrawl.com
SUMMARY:Toronto Bar Crawl #32
DESCRIPTION:\n					\n						Ready to go out drinking in Toronto? \nGet your night out started right with your host Zoubin taking you on a bar crawl. \nZoubin will take you to some of his favorite bars\, where we’ll have a drink at each bar before moving onto the next. \nThe focus of this bar crawl is to mingle with the local bar regulars in the bars as well as the the other bar crawlers. \nPlease expect a down to earth experience. \nWear your friendliest\, most fun attitude\, and strike up conversations with anyone nearby. \n.fusion-button.button-1{width:100%;}BOOK TICKET HERE\n\n					\n				\n
URL:https://www.torontobarcrawl.com/event/toronto-bar-crawl-32/
LOCATION:College Street and Grace Street\, Toronto\, on\, M6G 1B8\, Canada
CATEGORIES:Toronto Bar Crawl
ATTACH;FMTTYPE=image/png:https://www.torontobarcrawl.com/wp-content/uploads/2019/01/event-poster_notext-2.png
ORGANIZER;CN="Toronto%20Bar%20Crawl":MAILTO:fun@torontobarcrawl.com
END:VEVENT
END:VCALENDAR