BEGIN:VCALENDAR
VERSION:2.0
PRODID:-//Toronto Bar Crawl - ECPv4.8.2//NONSGML v1.0//EN
CALSCALE:GREGORIAN
METHOD:PUBLISH
X-WR-CALNAME:Toronto Bar Crawl
X-ORIGINAL-URL:https://www.torontobarcrawl.com
X-WR-CALDESC:Events for Toronto Bar Crawl
BEGIN:VEVENT
DTSTART;TZID=America/Toronto:20220716T180000
DTEND;TZID=America/Toronto:20220716T230000
DTSTAMP:20260426T041159
CREATED:20220522T163945Z
LAST-MODIFIED:20220716T081330Z
UID:2323-1657994400-1658012400@www.torontobarcrawl.com
SUMMARY:Toronto Bar Crawl #61
DESCRIPTION:\n					\n						Ready to go out drinking in Toronto? \nGet your night out started right with your host Kabir taking you on a bar crawl. \nKabir will take you to some of their favorite bars\, where we’ll have a drink at each bar before moving onto the next. \nThe focus of this bar crawl is to mingle with the local bar regulars in the bars as well as the the other bar crawlers. \nPlease expect a down to earth experience. \nWear your friendliest\, most fun attitude\, and strike up conversations with anyone nearby. \n.fusion-button.button-1{width:100%;}BOOK TICKET\n\n					\n				\n
URL:https://www.torontobarcrawl.com/event/toronto-bar-crawl-61/
LOCATION:Bloor and Christie area in Toronto
CATEGORIES:Toronto Bar Crawl
ATTACH;FMTTYPE=image/png:https://www.torontobarcrawl.com/wp-content/uploads/2019/07/event-poster-notext49.png
ORGANIZER;CN="Toronto%20Bar%20Crawl":MAILTO:fun@torontobarcrawl.com
END:VEVENT
END:VCALENDAR